BEGIN:VCALENDAR
VERSION:2.0
PRODID:-//Restoration Church l Faith-filled Church in Fort Mill SC - ECPv6.15.17.1//NONSGML v1.0//EN
CALSCALE:GREGORIAN
METHOD:PUBLISH
X-ORIGINAL-URL:https://mobile.restorationchurchcarolinas.org
X-WR-CALDESC:Events for Restoration Church l Faith-filled Church in Fort Mill SC
REFRESH-INTERVAL;VALUE=DURATION:PT1H
X-Robots-Tag:noindex
X-PUBLISHED-TTL:PT1H
BEGIN:VTIMEZONE
TZID:America/New_York
BEGIN:DAYLIGHT
TZOFFSETFROM:-0500
TZOFFSETTO:-0400
TZNAME:EDT
DTSTART:20250309T070000
END:DAYLIGHT
BEGIN:STANDARD
TZOFFSETFROM:-0400
TZOFFSETTO:-0500
TZNAME:EST
DTSTART:20251102T060000
END:STANDARD
BEGIN:DAYLIGHT
TZOFFSETFROM:-0500
TZOFFSETTO:-0400
TZNAME:EDT
DTSTART:20260308T070000
END:DAYLIGHT
BEGIN:STANDARD
TZOFFSETFROM:-0400
TZOFFSETTO:-0500
TZNAME:EST
DTSTART:20261101T060000
END:STANDARD
BEGIN:DAYLIGHT
TZOFFSETFROM:-0500
TZOFFSETTO:-0400
TZNAME:EDT
DTSTART:20270314T070000
END:DAYLIGHT
BEGIN:STANDARD
TZOFFSETFROM:-0400
TZOFFSETTO:-0500
TZNAME:EST
DTSTART:20271107T060000
END:STANDARD
END:VTIMEZONE
BEGIN:VEVENT
DTSTART;TZID=America/New_York:20260329T093000
DTEND;TZID=America/New_York:20260329T101500
DTSTAMP:20260420T091825
CREATED:20260115T163432Z
LAST-MODIFIED:20260325T115423Z
UID:7713-1774776600-1774779300@mobile.restorationchurchcarolinas.org
SUMMARY:Sunday School
DESCRIPTION:Multiple classes for all ages! 9:30a-10:15a \nTruth Seekers\nAdults any age group\nLed by: Bobby Hedgpath\nMeets in the youth modular\n\nCircle of Friends\nMarried Couples any age group\nLed by rotating teachers: Hopkins\, Fletcher\, Schmitt’s\, Holshouser’s\nMeets in the large modular\n\nBand of Brothers\nMen any age group\nLed by rotating teacher: Wampler\, Howie\nMeets in the large modular\n\nWomen of Worship\nLadies any age group\nLed by: Phyllis Brown & Marcia Brown\nMeets in the women’s modular
URL:https://mobile.restorationchurchcarolinas.org/calendar/sunday-school-40/
LOCATION:Restoration Church\, 8365 Possum Hollow Rd\, Fort Mill\, South Carolina\, 29707\, United States
CATEGORIES:Bible Study,Men's Ministry,Restoration Church,Women's Ministry,Youth Ministry
ATTACH;FMTTYPE=image/webp:https://mobile.restorationchurchcarolinas.org/wp-content/uploads/2026/01/RC-sunday-school-Dec-3.webp
ORGANIZER;CN="Restoration Church":MAILTO:info@restorationchurchcarolinas.com
END:VEVENT
BEGIN:VEVENT
DTSTART;TZID=America/New_York:20260331T110000
DTEND;TZID=America/New_York:20260331T123000
DTSTAMP:20260420T091825
CREATED:20260115T164155Z
LAST-MODIFIED:20260115T164155Z
UID:7736-1774954800-1774960200@mobile.restorationchurchcarolinas.org
SUMMARY:Men's D-Group
DESCRIPTION:Men’s Discipleship Group led by Everett Fletcher will meet in the Youth Building every Tuesday from 11a-12:30p.
URL:https://mobile.restorationchurchcarolinas.org/calendar/mens-d-group-31/
LOCATION:Youth Bldg.\, 8365 Possum Hollow Rd\, Fort Mill\, South Carolina\, 29707
CATEGORIES:Men's Ministry
ATTACH;FMTTYPE=image/webp:https://mobile.restorationchurchcarolinas.org/wp-content/uploads/2025/08/mens-discipleship-fort-mill-scaled.webp
END:VEVENT
BEGIN:VEVENT
DTSTART;TZID=America/New_York:20260405T093000
DTEND;TZID=America/New_York:20260405T101500
DTSTAMP:20260420T091825
CREATED:20260212T172049Z
LAST-MODIFIED:20260325T115554Z
UID:8020-1775381400-1775384100@mobile.restorationchurchcarolinas.org
SUMMARY:Sunday School
DESCRIPTION:Multiple classes for all ages! 9:30a-10:15a \nTruth Seekers\nAdults any age group\nLed by: Bobby Hedgpath\nMeets in the youth modular\n\nCircle of Friends\nMarried Couples any age group\nLed by rotating teachers: Hopkins\, Fletcher\, Schmitt’s\, Holshouser’s\nMeets in the large modular\n\nBand of Brothers\nMen any age group\nLed by rotating teacher: Wampler\, Howie\nMeets in the large modular\n\nWomen of Worship\nLadies any age group\nLed by: Phyllis Brown & Marcia Brown\nMeets in the women’s modular
URL:https://mobile.restorationchurchcarolinas.org/calendar/sunday-school-11/
LOCATION:Restoration Church\, 8365 Possum Hollow Rd\, Fort Mill\, South Carolina\, 29707\, United States
CATEGORIES:Bible Study,Men's Ministry,Restoration Church,Women's Ministry,Youth Ministry
ATTACH;FMTTYPE=image/webp:https://mobile.restorationchurchcarolinas.org/wp-content/uploads/2026/02/RC-Sunday-School-Feb-2.webp
END:VEVENT
BEGIN:VEVENT
DTSTART;TZID=America/New_York:20260407T110000
DTEND;TZID=America/New_York:20260407T123000
DTSTAMP:20260420T091825
CREATED:20260212T172639Z
LAST-MODIFIED:20260212T172639Z
UID:8038-1775559600-1775565000@mobile.restorationchurchcarolinas.org
SUMMARY:Men's D-Group
DESCRIPTION:Men’s Discipleship Group led by Everett Fletcher will meet in the Youth Building every Tuesday from 11a-12:30p.
URL:https://mobile.restorationchurchcarolinas.org/calendar/mens-d-group-32/
LOCATION:Youth Bldg.\, 8365 Possum Hollow Rd\, Fort Mill\, South Carolina\, 29707
CATEGORIES:Men's Ministry
ATTACH;FMTTYPE=image/webp:https://mobile.restorationchurchcarolinas.org/wp-content/uploads/2025/09/amazing-fort-mill-sc-churches.webp
END:VEVENT
BEGIN:VEVENT
DTSTART;TZID=America/New_York:20260412T093000
DTEND;TZID=America/New_York:20260412T101500
DTSTAMP:20260420T091825
CREATED:20260212T172106Z
LAST-MODIFIED:20260325T115530Z
UID:8023-1775986200-1775988900@mobile.restorationchurchcarolinas.org
SUMMARY:Sunday School
DESCRIPTION:Multiple classes for all ages! 9:30a-10:15a \nTruth Seekers\nAdults any age group\nLed by: Bobby Hedgpath\nMeets in the youth modular\n\nCircle of Friends\nMarried Couples any age group\nLed by rotating teachers: Hopkins\, Fletcher\, Schmitt’s\, Holshouser’s\nMeets in the large modular\n\nBand of Brothers\nMen any age group\nLed by rotating teacher: Wampler\, Howie\nMeets in the large modular\n\nWomen of Worship\nLadies any age group\nLed by: Phyllis Brown & Marcia Brown\nMeets in the women’s modular
URL:https://mobile.restorationchurchcarolinas.org/calendar/sunday-school-41/
LOCATION:Restoration Church\, 8365 Possum Hollow Rd\, Fort Mill\, South Carolina\, 29707\, United States
CATEGORIES:Bible Study,Men's Ministry,Restoration Church,Women's Ministry,Youth Ministry
ATTACH;FMTTYPE=image/webp:https://mobile.restorationchurchcarolinas.org/wp-content/uploads/2026/02/RC-Sunday-School-Feb-2.webp
END:VEVENT
BEGIN:VEVENT
DTSTART;TZID=America/New_York:20260414T110000
DTEND;TZID=America/New_York:20260414T123000
DTSTAMP:20260420T091825
CREATED:20260212T172657Z
LAST-MODIFIED:20260212T172657Z
UID:8040-1776164400-1776169800@mobile.restorationchurchcarolinas.org
SUMMARY:Men's D-Group
DESCRIPTION:Men’s Discipleship Group led by Everett Fletcher will meet in the Youth Building every Tuesday from 11a-12:30p.
URL:https://mobile.restorationchurchcarolinas.org/calendar/mens-d-group-33/
LOCATION:Youth Bldg.\, 8365 Possum Hollow Rd\, Fort Mill\, South Carolina\, 29707
CATEGORIES:Men's Ministry
ATTACH;FMTTYPE=image/webp:https://mobile.restorationchurchcarolinas.org/wp-content/uploads/2025/09/amazing-fort-mill-sc-churches.webp
END:VEVENT
BEGIN:VEVENT
DTSTART;TZID=America/New_York:20260419T093000
DTEND;TZID=America/New_York:20260419T101500
DTSTAMP:20260420T091825
CREATED:20260212T172121Z
LAST-MODIFIED:20260325T115618Z
UID:8025-1776591000-1776593700@mobile.restorationchurchcarolinas.org
SUMMARY:Sunday School
DESCRIPTION:Multiple classes for all ages! 9:30a-10:15a \nTruth Seekers\nAdults any age group\nLed by: Bobby Hedgpath\nMeets in the youth modular\n\nCircle of Friends\nMarried Couples any age group\nLed by rotating teachers: Hopkins\, Fletcher\, Schmitt’s\, Holshouser’s\nMeets in the large modular\n\nBand of Brothers\nMen any age group\nLed by rotating teacher: Wampler\, Howie\nMeets in the large modular\n\nWomen of Worship\nLadies any age group\nLed by: Phyllis Brown & Marcia Brown\nMeets in the women’s modular
URL:https://mobile.restorationchurchcarolinas.org/calendar/sunday-school-42/
LOCATION:Restoration Church\, 8365 Possum Hollow Rd\, Fort Mill\, South Carolina\, 29707\, United States
CATEGORIES:Bible Study,Men's Ministry,Restoration Church,Women's Ministry,Youth Ministry
ATTACH;FMTTYPE=image/webp:https://mobile.restorationchurchcarolinas.org/wp-content/uploads/2026/02/RC-Sunday-School-Feb-2.webp
END:VEVENT
BEGIN:VEVENT
DTSTART;TZID=America/New_York:20260421T110000
DTEND;TZID=America/New_York:20260421T123000
DTSTAMP:20260420T091825
CREATED:20260212T172714Z
LAST-MODIFIED:20260212T172714Z
UID:8042-1776769200-1776774600@mobile.restorationchurchcarolinas.org
SUMMARY:Men's D-Group
DESCRIPTION:Men’s Discipleship Group led by Everett Fletcher will meet in the Youth Building every Tuesday from 11a-12:30p.
URL:https://mobile.restorationchurchcarolinas.org/calendar/mens-d-group-34/
LOCATION:Youth Bldg.\, 8365 Possum Hollow Rd\, Fort Mill\, South Carolina\, 29707
CATEGORIES:Men's Ministry
ATTACH;FMTTYPE=image/webp:https://mobile.restorationchurchcarolinas.org/wp-content/uploads/2025/09/amazing-fort-mill-sc-churches.webp
END:VEVENT
BEGIN:VEVENT
DTSTART;TZID=America/New_York:20260426T093000
DTEND;TZID=America/New_York:20260426T101500
DTSTAMP:20260420T091825
CREATED:20260212T172135Z
LAST-MODIFIED:20260325T115634Z
UID:8027-1777195800-1777198500@mobile.restorationchurchcarolinas.org
SUMMARY:Sunday School
DESCRIPTION:Multiple classes for all ages! 9:30a-10:15a \nTruth Seekers\nAdults any age group\nLed by: Bobby Hedgpath\nMeets in the youth modular\n\nCircle of Friends\nMarried Couples any age group\nLed by rotating teachers: Hopkins\, Fletcher\, Schmitt’s\, Holshouser’s\nMeets in the large modular\n\nBand of Brothers\nMen any age group\nLed by rotating teacher: Wampler\, Howie\nMeets in the large modular\n\nWomen of Worship\nLadies any age group\nLed by: Phyllis Brown & Marcia Brown\nMeets in the women’s modular
URL:https://mobile.restorationchurchcarolinas.org/calendar/sunday-school-43/
LOCATION:Restoration Church\, 8365 Possum Hollow Rd\, Fort Mill\, South Carolina\, 29707\, United States
CATEGORIES:Bible Study,Men's Ministry,Restoration Church,Women's Ministry,Youth Ministry
ATTACH;FMTTYPE=image/webp:https://mobile.restorationchurchcarolinas.org/wp-content/uploads/2026/02/RC-Sunday-School-Feb-2.webp
END:VEVENT
BEGIN:VEVENT
DTSTART;TZID=America/New_York:20260428T110000
DTEND;TZID=America/New_York:20260428T123000
DTSTAMP:20260420T091825
CREATED:20260212T172735Z
LAST-MODIFIED:20260212T172735Z
UID:8044-1777374000-1777379400@mobile.restorationchurchcarolinas.org
SUMMARY:Men's D-Group
DESCRIPTION:Men’s Discipleship Group led by Everett Fletcher will meet in the Youth Building every Tuesday from 11a-12:30p.
URL:https://mobile.restorationchurchcarolinas.org/calendar/mens-d-group-35/
LOCATION:Youth Bldg.\, 8365 Possum Hollow Rd\, Fort Mill\, South Carolina\, 29707
CATEGORIES:Men's Ministry
ATTACH;FMTTYPE=image/webp:https://mobile.restorationchurchcarolinas.org/wp-content/uploads/2025/09/amazing-fort-mill-sc-churches.webp
END:VEVENT
BEGIN:VEVENT
DTSTART;TZID=America/New_York:20260503T093000
DTEND;TZID=America/New_York:20260503T101500
DTSTAMP:20260420T091825
CREATED:20260317T014532Z
LAST-MODIFIED:20260325T115658Z
UID:8272-1777800600-1777803300@mobile.restorationchurchcarolinas.org
SUMMARY:Sunday School
DESCRIPTION:Multiple classes for all ages! 9:30a-10:15a \nTruth Seekers\nAdults any age group\nLed by: Bobby Hedgpath\nMeets in the youth modular\n\nCircle of Friends\nMarried Couples any age group\nLed by rotating teachers: Hopkins\, Fletcher\, Schmitt’s\, Holshouser’s\nMeets in the large modular\n\nBand of Brothers\nMen any age group\nLed by rotating teacher: Wampler\, Howie\nMeets in the large modular\n\nWomen of Worship\nLadies any age group\nLed by: Phyllis Brown & Marcia Brown\nMeets in the women’s modular
URL:https://mobile.restorationchurchcarolinas.org/calendar/sunday-school-44/
LOCATION:Restoration Church\, 8365 Possum Hollow Rd\, Fort Mill\, South Carolina\, 29707\, United States
CATEGORIES:Bible Study,Men's Ministry,Restoration Church,Women's Ministry,Youth Ministry
ATTACH;FMTTYPE=image/webp:https://mobile.restorationchurchcarolinas.org/wp-content/uploads/2026/02/RC-Sunday-School-Feb-2.webp
END:VEVENT
BEGIN:VEVENT
DTSTART;TZID=America/New_York:20260505T110000
DTEND;TZID=America/New_York:20260505T123000
DTSTAMP:20260420T091825
CREATED:20260317T015228Z
LAST-MODIFIED:20260317T015228Z
UID:8290-1777978800-1777984200@mobile.restorationchurchcarolinas.org
SUMMARY:Men's D-Group
DESCRIPTION:Men’s Discipleship Group led by Everett Fletcher will meet in the Youth Building every Tuesday from 11a-12:30p.
URL:https://mobile.restorationchurchcarolinas.org/calendar/mens-d-group-36/
LOCATION:Youth Bldg.\, 8365 Possum Hollow Rd\, Fort Mill\, South Carolina\, 29707
CATEGORIES:Men's Ministry
ATTACH;FMTTYPE=image/webp:https://mobile.restorationchurchcarolinas.org/wp-content/uploads/2025/09/amazing-fort-mill-sc-churches.webp
END:VEVENT
BEGIN:VEVENT
DTSTART;TZID=America/New_York:20260510T093000
DTEND;TZID=America/New_York:20260510T101500
DTSTAMP:20260420T091825
CREATED:20260317T014554Z
LAST-MODIFIED:20260325T115716Z
UID:8274-1778405400-1778408100@mobile.restorationchurchcarolinas.org
SUMMARY:Sunday School
DESCRIPTION:Multiple classes for all ages! 9:30a-10:15a \nTruth Seekers\nAdults any age group\nLed by: Bobby Hedgpath\nMeets in the youth modular\n\nCircle of Friends\nMarried Couples any age group\nLed by rotating teachers: Hopkins\, Fletcher\, Schmitt’s\, Holshouser’s\nMeets in the large modular\n\nBand of Brothers\nMen any age group\nLed by rotating teacher: Wampler\, Howie\nMeets in the large modular\n\nWomen of Worship\nLadies any age group\nLed by: Phyllis Brown & Marcia Brown\nMeets in the women’s modular
URL:https://mobile.restorationchurchcarolinas.org/calendar/sunday-school-45/
LOCATION:Restoration Church\, 8365 Possum Hollow Rd\, Fort Mill\, South Carolina\, 29707\, United States
CATEGORIES:Bible Study,Men's Ministry,Restoration Church,Women's Ministry,Youth Ministry
ATTACH;FMTTYPE=image/webp:https://mobile.restorationchurchcarolinas.org/wp-content/uploads/2026/02/RC-Sunday-School-Feb-2.webp
END:VEVENT
BEGIN:VEVENT
DTSTART;TZID=America/New_York:20260512T110000
DTEND;TZID=America/New_York:20260512T123000
DTSTAMP:20260420T091825
CREATED:20260317T015253Z
LAST-MODIFIED:20260317T015253Z
UID:8292-1778583600-1778589000@mobile.restorationchurchcarolinas.org
SUMMARY:Men's D-Group
DESCRIPTION:Men’s Discipleship Group led by Everett Fletcher will meet in the Youth Building every Tuesday from 11a-12:30p.
URL:https://mobile.restorationchurchcarolinas.org/calendar/mens-d-group-37/
LOCATION:Youth Bldg.\, 8365 Possum Hollow Rd\, Fort Mill\, South Carolina\, 29707
CATEGORIES:Men's Ministry
ATTACH;FMTTYPE=image/webp:https://mobile.restorationchurchcarolinas.org/wp-content/uploads/2025/09/amazing-fort-mill-sc-churches.webp
END:VEVENT
BEGIN:VEVENT
DTSTART;TZID=America/New_York:20260517T093000
DTEND;TZID=America/New_York:20260517T101500
DTSTAMP:20260420T091825
CREATED:20260317T014614Z
LAST-MODIFIED:20260325T115757Z
UID:8276-1779010200-1779012900@mobile.restorationchurchcarolinas.org
SUMMARY:Sunday School
DESCRIPTION:Multiple classes for all ages! 9:30a-10:15a \nTruth Seekers\nAdults any age group\nLed by: Bobby Hedgpath\nMeets in the youth modular\n\nCircle of Friends\nMarried Couples any age group\nLed by rotating teachers: Hopkins\, Fletcher\, Schmitt’s\, Holshouser’s\nMeets in the large modular\n\nBand of Brothers\nMen any age group\nLed by rotating teacher: Wampler\, Howie\nMeets in the large modular\n\nWomen of Worship\nLadies any age group\nLed by: Phyllis Brown & Marcia Brown\nMeets in the women’s modular
URL:https://mobile.restorationchurchcarolinas.org/calendar/sunday-school-46/
LOCATION:Restoration Church\, 8365 Possum Hollow Rd\, Fort Mill\, South Carolina\, 29707\, United States
CATEGORIES:Bible Study,Men's Ministry,Restoration Church,Women's Ministry,Youth Ministry
ATTACH;FMTTYPE=image/webp:https://mobile.restorationchurchcarolinas.org/wp-content/uploads/2026/02/RC-Sunday-School-Feb-2.webp
END:VEVENT
BEGIN:VEVENT
DTSTART;TZID=America/New_York:20260519T110000
DTEND;TZID=America/New_York:20260519T123000
DTSTAMP:20260420T091825
CREATED:20260317T015314Z
LAST-MODIFIED:20260317T015314Z
UID:8294-1779188400-1779193800@mobile.restorationchurchcarolinas.org
SUMMARY:Men's D-Group
DESCRIPTION:Men’s Discipleship Group led by Everett Fletcher will meet in the Youth Building every Tuesday from 11a-12:30p.
URL:https://mobile.restorationchurchcarolinas.org/calendar/mens-d-group-38/
LOCATION:Youth Bldg.\, 8365 Possum Hollow Rd\, Fort Mill\, South Carolina\, 29707
CATEGORIES:Men's Ministry
ATTACH;FMTTYPE=image/webp:https://mobile.restorationchurchcarolinas.org/wp-content/uploads/2025/09/amazing-fort-mill-sc-churches.webp
END:VEVENT
BEGIN:VEVENT
DTSTART;TZID=America/New_York:20260524T093000
DTEND;TZID=America/New_York:20260524T101500
DTSTAMP:20260420T091825
CREATED:20260317T014643Z
LAST-MODIFIED:20260325T115819Z
UID:8278-1779615000-1779617700@mobile.restorationchurchcarolinas.org
SUMMARY:Sunday School
DESCRIPTION:Multiple classes for all ages! 9:30a-10:15a \nTruth Seekers\nAdults any age group\nLed by: Bobby Hedgpath\nMeets in the youth modular\n\nCircle of Friends\nMarried Couples any age group\nLed by rotating teachers: Hopkins\, Fletcher\, Schmitt’s\, Holshouser’s\nMeets in the large modular\n\nBand of Brothers\nMen any age group\nLed by rotating teacher: Wampler\, Howie\nMeets in the large modular\n\nWomen of Worship\nLadies any age group\nLed by: Phyllis Brown & Marcia Brown\nMeets in the women’s modular
URL:https://mobile.restorationchurchcarolinas.org/calendar/sunday-school-47/
LOCATION:Restoration Church\, 8365 Possum Hollow Rd\, Fort Mill\, South Carolina\, 29707\, United States
CATEGORIES:Bible Study,Men's Ministry,Restoration Church,Women's Ministry,Youth Ministry
ATTACH;FMTTYPE=image/webp:https://mobile.restorationchurchcarolinas.org/wp-content/uploads/2026/02/RC-Sunday-School-Feb-2.webp
END:VEVENT
BEGIN:VEVENT
DTSTART;TZID=America/New_York:20260526T110000
DTEND;TZID=America/New_York:20260526T123000
DTSTAMP:20260420T091825
CREATED:20260317T015353Z
LAST-MODIFIED:20260317T015353Z
UID:8296-1779793200-1779798600@mobile.restorationchurchcarolinas.org
SUMMARY:Men's D-Group
DESCRIPTION:Men’s Discipleship Group led by Everett Fletcher will meet in the Youth Building every Tuesday from 11a-12:30p.
URL:https://mobile.restorationchurchcarolinas.org/calendar/mens-d-group-39/
LOCATION:Youth Bldg.\, 8365 Possum Hollow Rd\, Fort Mill\, South Carolina\, 29707
CATEGORIES:Men's Ministry
ATTACH;FMTTYPE=image/webp:https://mobile.restorationchurchcarolinas.org/wp-content/uploads/2025/09/amazing-fort-mill-sc-churches.webp
END:VEVENT
BEGIN:VEVENT
DTSTART;TZID=America/New_York:20260531T093000
DTEND;TZID=America/New_York:20260531T101500
DTSTAMP:20260420T091825
CREATED:20260317T014702Z
LAST-MODIFIED:20260325T115849Z
UID:8280-1780219800-1780222500@mobile.restorationchurchcarolinas.org
SUMMARY:Sunday School
DESCRIPTION:Multiple classes for all ages! 9:30a-10:15a \nTruth Seekers\nAdults any age group\nLed by: Bobby Hedgpath\nMeets in the youth modular\n\nCircle of Friends\nMarried Couples any age group\nLed by rotating teachers: Hopkins\, Fletcher\, Schmitt’s\, Holshouser’s\nMeets in the large modular\n\nBand of Brothers\nMen any age group\nLed by rotating teacher: Wampler\, Howie\nMeets in the large modular\n\nWomen of Worship\nLadies any age group\nLed by: Phyllis Brown & Marcia Brown\nMeets in the women’s modular
URL:https://mobile.restorationchurchcarolinas.org/calendar/sunday-school-48/
LOCATION:Restoration Church\, 8365 Possum Hollow Rd\, Fort Mill\, South Carolina\, 29707\, United States
CATEGORIES:Bible Study,Men's Ministry,Restoration Church,Women's Ministry,Youth Ministry
ATTACH;FMTTYPE=image/webp:https://mobile.restorationchurchcarolinas.org/wp-content/uploads/2026/02/RC-Sunday-School-Feb-2.webp
END:VEVENT
BEGIN:VEVENT
DTSTART;TZID=America/New_York:20260602T110000
DTEND;TZID=America/New_York:20260602T123000
DTSTAMP:20260420T091825
CREATED:20260415T051721Z
LAST-MODIFIED:20260415T051721Z
UID:8500-1780398000-1780403400@mobile.restorationchurchcarolinas.org
SUMMARY:Men's D-Group
DESCRIPTION:Men’s Discipleship Group led by Everett Fletcher will meet in the Youth Building every Tuesday from 11a-12:30p.
URL:https://mobile.restorationchurchcarolinas.org/calendar/mens-d-group-40/
LOCATION:Youth Bldg.\, 8365 Possum Hollow Rd\, Fort Mill\, South Carolina\, 29707
CATEGORIES:Men's Ministry
ATTACH;FMTTYPE=image/webp:https://mobile.restorationchurchcarolinas.org/wp-content/uploads/2025/09/amazing-fort-mill-sc-churches.webp
END:VEVENT
BEGIN:VEVENT
DTSTART;TZID=America/New_York:20260607T093000
DTEND;TZID=America/New_York:20260607T101500
DTSTAMP:20260420T091825
CREATED:20260415T053613Z
LAST-MODIFIED:20260415T053613Z
UID:8563-1780824600-1780827300@mobile.restorationchurchcarolinas.org
SUMMARY:Sunday School
DESCRIPTION:Multiple classes for all ages! 9:30a-10:15a \nTruth Seekers\nAdults any age group\nLed by: Bobby Hedgpath\nMeets in the youth modular\n\nCircle of Friends\nMarried Couples any age group\nLed by rotating teachers: Hopkins\, Fletcher\, Schmitt’s\, Holshouser’s\nMeets in the large modular\n\nBand of Brothers\nMen any age group\nLed by rotating teacher: Wampler\, Howie\nMeets in the large modular\n\nWomen of Worship\nLadies any age group\nLed by: Phyllis Brown & Marcia Brown\nMeets in the women’s modular
URL:https://mobile.restorationchurchcarolinas.org/calendar/sunday-school-49/
LOCATION:Restoration Church\, 8365 Possum Hollow Rd\, Fort Mill\, South Carolina\, 29707\, United States
CATEGORIES:Bible Study,Men's Ministry,Restoration Church,Women's Ministry,Youth Ministry
ATTACH;FMTTYPE=image/webp:https://mobile.restorationchurchcarolinas.org/wp-content/uploads/2026/04/RC-Sunday-School-Apr4.webp
END:VEVENT
BEGIN:VEVENT
DTSTART;TZID=America/New_York:20260609T110000
DTEND;TZID=America/New_York:20260609T123000
DTSTAMP:20260420T091825
CREATED:20260415T051737Z
LAST-MODIFIED:20260415T051737Z
UID:8502-1781002800-1781008200@mobile.restorationchurchcarolinas.org
SUMMARY:Men's D-Group
DESCRIPTION:Men’s Discipleship Group led by Everett Fletcher will meet in the Youth Building every Tuesday from 11a-12:30p.
URL:https://mobile.restorationchurchcarolinas.org/calendar/mens-d-group-41/
LOCATION:Youth Bldg.\, 8365 Possum Hollow Rd\, Fort Mill\, South Carolina\, 29707
CATEGORIES:Men's Ministry
ATTACH;FMTTYPE=image/webp:https://mobile.restorationchurchcarolinas.org/wp-content/uploads/2025/09/amazing-fort-mill-sc-churches.webp
END:VEVENT
BEGIN:VEVENT
DTSTART;TZID=America/New_York:20260614T093000
DTEND;TZID=America/New_York:20260614T101500
DTSTAMP:20260420T091825
CREATED:20260415T053632Z
LAST-MODIFIED:20260415T053632Z
UID:8566-1781429400-1781432100@mobile.restorationchurchcarolinas.org
SUMMARY:Sunday School
DESCRIPTION:Multiple classes for all ages! 9:30a-10:15a \nTruth Seekers\nAdults any age group\nLed by: Bobby Hedgpath\nMeets in the youth modular\n\nCircle of Friends\nMarried Couples any age group\nLed by rotating teachers: Hopkins\, Fletcher\, Schmitt’s\, Holshouser’s\nMeets in the large modular\n\nBand of Brothers\nMen any age group\nLed by rotating teacher: Wampler\, Howie\nMeets in the large modular\n\nWomen of Worship\nLadies any age group\nLed by: Phyllis Brown & Marcia Brown\nMeets in the women’s modular
URL:https://mobile.restorationchurchcarolinas.org/calendar/sunday-school-50/
LOCATION:Restoration Church\, 8365 Possum Hollow Rd\, Fort Mill\, South Carolina\, 29707\, United States
CATEGORIES:Bible Study,Men's Ministry,Restoration Church,Women's Ministry,Youth Ministry
ATTACH;FMTTYPE=image/webp:https://mobile.restorationchurchcarolinas.org/wp-content/uploads/2026/04/RC-Sunday-School-Apr4.webp
END:VEVENT
BEGIN:VEVENT
DTSTART;TZID=America/New_York:20260616T110000
DTEND;TZID=America/New_York:20260616T123000
DTSTAMP:20260420T091825
CREATED:20260415T051755Z
LAST-MODIFIED:20260415T051755Z
UID:8504-1781607600-1781613000@mobile.restorationchurchcarolinas.org
SUMMARY:Men's D-Group
DESCRIPTION:Men’s Discipleship Group led by Everett Fletcher will meet in the Youth Building every Tuesday from 11a-12:30p.
URL:https://mobile.restorationchurchcarolinas.org/calendar/mens-d-group-42/
LOCATION:Youth Bldg.\, 8365 Possum Hollow Rd\, Fort Mill\, South Carolina\, 29707
CATEGORIES:Men's Ministry
ATTACH;FMTTYPE=image/webp:https://mobile.restorationchurchcarolinas.org/wp-content/uploads/2025/09/amazing-fort-mill-sc-churches.webp
END:VEVENT
BEGIN:VEVENT
DTSTART;TZID=America/New_York:20260621T093000
DTEND;TZID=America/New_York:20260621T101500
DTSTAMP:20260420T091825
CREATED:20260415T053651Z
LAST-MODIFIED:20260415T053651Z
UID:8568-1782034200-1782036900@mobile.restorationchurchcarolinas.org
SUMMARY:Sunday School
DESCRIPTION:Multiple classes for all ages! 9:30a-10:15a \nTruth Seekers\nAdults any age group\nLed by: Bobby Hedgpath\nMeets in the youth modular\n\nCircle of Friends\nMarried Couples any age group\nLed by rotating teachers: Hopkins\, Fletcher\, Schmitt’s\, Holshouser’s\nMeets in the large modular\n\nBand of Brothers\nMen any age group\nLed by rotating teacher: Wampler\, Howie\nMeets in the large modular\n\nWomen of Worship\nLadies any age group\nLed by: Phyllis Brown & Marcia Brown\nMeets in the women’s modular
URL:https://mobile.restorationchurchcarolinas.org/calendar/sunday-school-51/
LOCATION:Restoration Church\, 8365 Possum Hollow Rd\, Fort Mill\, South Carolina\, 29707\, United States
CATEGORIES:Bible Study,Men's Ministry,Restoration Church,Women's Ministry,Youth Ministry
ATTACH;FMTTYPE=image/webp:https://mobile.restorationchurchcarolinas.org/wp-content/uploads/2026/04/RC-Sunday-School-Apr4.webp
END:VEVENT
BEGIN:VEVENT
DTSTART;TZID=America/New_York:20260623T110000
DTEND;TZID=America/New_York:20260623T123000
DTSTAMP:20260420T091825
CREATED:20260415T051811Z
LAST-MODIFIED:20260415T051811Z
UID:8506-1782212400-1782217800@mobile.restorationchurchcarolinas.org
SUMMARY:Men's D-Group
DESCRIPTION:Men’s Discipleship Group led by Everett Fletcher will meet in the Youth Building every Tuesday from 11a-12:30p.
URL:https://mobile.restorationchurchcarolinas.org/calendar/mens-d-group-43/
LOCATION:Youth Bldg.\, 8365 Possum Hollow Rd\, Fort Mill\, South Carolina\, 29707
CATEGORIES:Men's Ministry
ATTACH;FMTTYPE=image/webp:https://mobile.restorationchurchcarolinas.org/wp-content/uploads/2025/09/amazing-fort-mill-sc-churches.webp
END:VEVENT
BEGIN:VEVENT
DTSTART;TZID=America/New_York:20260628T093000
DTEND;TZID=America/New_York:20260628T101500
DTSTAMP:20260420T091825
CREATED:20260415T053710Z
LAST-MODIFIED:20260415T053710Z
UID:8570-1782639000-1782641700@mobile.restorationchurchcarolinas.org
SUMMARY:Sunday School
DESCRIPTION:Multiple classes for all ages! 9:30a-10:15a \nTruth Seekers\nAdults any age group\nLed by: Bobby Hedgpath\nMeets in the youth modular\n\nCircle of Friends\nMarried Couples any age group\nLed by rotating teachers: Hopkins\, Fletcher\, Schmitt’s\, Holshouser’s\nMeets in the large modular\n\nBand of Brothers\nMen any age group\nLed by rotating teacher: Wampler\, Howie\nMeets in the large modular\n\nWomen of Worship\nLadies any age group\nLed by: Phyllis Brown & Marcia Brown\nMeets in the women’s modular
URL:https://mobile.restorationchurchcarolinas.org/calendar/sunday-school-52/
LOCATION:Restoration Church\, 8365 Possum Hollow Rd\, Fort Mill\, South Carolina\, 29707\, United States
CATEGORIES:Bible Study,Men's Ministry,Restoration Church,Women's Ministry,Youth Ministry
ATTACH;FMTTYPE=image/webp:https://mobile.restorationchurchcarolinas.org/wp-content/uploads/2026/04/RC-Sunday-School-Apr4.webp
END:VEVENT
BEGIN:VEVENT
DTSTART;TZID=America/New_York:20260630T110000
DTEND;TZID=America/New_York:20260630T123000
DTSTAMP:20260420T091825
CREATED:20260415T051830Z
LAST-MODIFIED:20260415T051830Z
UID:8508-1782817200-1782822600@mobile.restorationchurchcarolinas.org
SUMMARY:Men's D-Group
DESCRIPTION:Men’s Discipleship Group led by Everett Fletcher will meet in the Youth Building every Tuesday from 11a-12:30p.
URL:https://mobile.restorationchurchcarolinas.org/calendar/mens-d-group-44/
LOCATION:Youth Bldg.\, 8365 Possum Hollow Rd\, Fort Mill\, South Carolina\, 29707
CATEGORIES:Men's Ministry
ATTACH;FMTTYPE=image/webp:https://mobile.restorationchurchcarolinas.org/wp-content/uploads/2025/09/amazing-fort-mill-sc-churches.webp
END:VEVENT
END:VCALENDAR